BEGIN:VCALENDAR
PRODID:\"-//Events Calendar//iCal4j 1.0//EN
VERSION:2.0
CALSCALE:GREGORIAN
BEGIN:VEVENT
DTSTAMP:20260419T174652Z
DTSTART:20260621T140000
DTEND:20260621T150000
SUMMARY:Alles kolonial?
DESCRIPTION:\n\nWie prägt Kolonialismus unsere Welt bis heute? In dieser 
 Führung befassen wir uns mit Stimmen aus ehemals kolonialisierten Gebiet
 en und hinterfragen\, wie Objekte ins Museum gelangt sind. \n\nMit Jo Me
 ier \n\nIm Museumseintritt inbegriffen
UID:20260419T174652Z-uidGen@apps36.mirocloud.com
END:VEVENT
END:VCALENDAR
